BEGIN:VCALENDAR
VERSION:2.0
PRODID:-//eventon.com NONSGML v1.0//EN
BEGIN:VEVENT
UID:69ec3eb98c158
DTSTAMP:20260425T041033
DTSTART:20210106T210000Z
DTEND:20210106T220000Z
LOCATION:
SUMMARY:Prayer Phone Conference
DESCRIPTION: Prayer Phone Conference Every Wednesday from 9 pm-10 pm. Call into the conference line at 415-464-6800\,  access code 30333# &nbsp;
END:VEVENT
END:VCALENDAR